BEGIN:VCALENDAR
VERSION:2.0
PRODID:icalendar-ruby
CALSCALE:GREGORIAN
METHOD:PUBLISH
BEGIN:VEVENT
DTSTAMP:20260419T130511Z
UID:5-1356663@fearlesscc.org
DTSTART:20260830T193000Z
DTEND:20260830T203000Z
CLASS:PUBLIC
CREATED:20260419T054729
DESCRIPTION:Sunday Worship
LAST-MODIFIED:20260419T054729
LOCATION:
SUMMARY:Sunday Worship
URL;VALUE=URI:https://www.fearlesscc.org/events/sunday-worship/2026-08-30
END:VEVENT
END:VCALENDAR
